{"text_format":"1","workbook":"xlsx","n_sheets":1,"sheets":["Лист1"],"not_rendered":{"charts":0,"images":0,"macros":1,"external_links":1,"defined_names":0,"comments":0,"pivot_tables":0},"unopened":[],"bounds":{"document_bytes":16777216,"sheet_cells":100000,"rows_first":2000,"rows_last":500,"rows_between":2000,"halvings":0,"cell_chars":16384,"cell_head_chars":4096},"cells_cut":0,"cells_raw":0,"read":"whole","date_system":"1900"}

{"sheet":"Лист1","index":0,"n_rows":99,"n_cols":13,"rows_kept":99,"cut":false,"hidden":false,"merged":[[0,0,0,1],[2,0,2,12]]}
["ШАБЛОН"]
["№","комм","Лунка","Название адаптера","Название олига 7xx","Название олига 5xx","Mcalc1","Mcalc2","ESI результат","Соотношение","Mobserved1","Mobserved2","DataPath"]
[]
[null,null,null,null,null,null,{"$f":"VLOOKUP(E4, [1]ext!$F$1:$G$65536,2,FALSE)","v":0},{"$f":"VLOOKUP(F4, [1]ext!$F$1:$G$65536,2,FALSE)","v":0}]
[null,null,null,null,null,null,{"$f":"VLOOKUP(E5, [1]ext!$F$1:$G$65536,2,FALSE)","v":0},{"$f":"VLOOKUP(F5, [1]ext!$F$1:$G$65536,2,FALSE)","v":0}]
[null,null,null,null,null,null,{"$f":"VLOOKUP(E6, [1]ext!$F$1:$G$65536,2,FALSE)","v":0},{"$f":"VLOOKUP(F6, [1]ext!$F$1:$G$65536,2,FALSE)","v":0}]
[null,null,null,null,null,null,{"$f":"VLOOKUP(E7, [1]ext!$F$1:$G$65536,2,FALSE)","v":0},{"$f":"VLOOKUP(F7, [1]ext!$F$1:$G$65536,2,FALSE)","v":0}]
[null,null,null,null,null,null,{"$f":"VLOOKUP(E8, [1]ext!$F$1:$G$65536,2,FALSE)","v":0},{"$f":"VLOOKUP(F8, [1]ext!$F$1:$G$65536,2,FALSE)","v":0}]
[null,null,null,null,null,null,{"$f":"VLOOKUP(E9, [1]ext!$F$1:$G$65536,2,FALSE)","v":0},{"$f":"VLOOKUP(F9, [1]ext!$F$1:$G$65536,2,FALSE)","v":0}]
[null,null,null,null,null,null,{"$f":"VLOOKUP(E10, [1]ext!$F$1:$G$65536,2,FALSE)","v":0},{"$f":"VLOOKUP(F10, [1]ext!$F$1:$G$65536,2,FALSE)","v":0}]
[null,null,null,null,null,null,{"$f":"VLOOKUP(E11, [1]ext!$F$1:$G$65536,2,FALSE)","v":0},{"$f":"VLOOKUP(F11, [1]ext!$F$1:$G$65536,2,FALSE)","v":0}]
[null,null,null,null,null,null,{"$f":"VLOOKUP(E12, [1]ext!$F$1:$G$65536,2,FALSE)","v":0},{"$f":"VLOOKUP(F12, [1]ext!$F$1:$G$65536,2,FALSE)","v":0}]
[null,null,null,null,null,null,{"$f":"VLOOKUP(E13, [1]ext!$F$1:$G$65536,2,FALSE)","v":0},{"$f":"VLOOKUP(F13, [1]ext!$F$1:$G$65536,2,FALSE)","v":0}]
[null,null,null,null,null,null,{"$f":"VLOOKUP(E14, [1]ext!$F$1:$G$65536,2,FALSE)","v":0},{"$f":"VLOOKUP(F14, [1]ext!$F$1:$G$65536,2,FALSE)","v":0}]
[null,null,null,null,null,null,{"$f":"VLOOKUP(E15, [1]ext!$F$1:$G$65536,2,FALSE)","v":0},{"$f":"VLOOKUP(F15, [1]ext!$F$1:$G$65536,2,FALSE)","v":0}]
[null,null,null,null,null,null,{"$f":"VLOOKUP(E16, [1]ext!$F$1:$G$65536,2,FALSE)","v":0},{"$f":"VLOOKUP(F16, [1]ext!$F$1:$G$65536,2,FALSE)","v":0}]
[null,null,null,null,null,null,{"$f":"VLOOKUP(E17, [1]ext!$F$1:$G$65536,2,FALSE)","v":0},{"$f":"VLOOKUP(F17, [1]ext!$F$1:$G$65536,2,FALSE)","v":0}]
[null,null,null,null,null,null,{"$f":"VLOOKUP(E18, [1]ext!$F$1:$G$65536,2,FALSE)","v":0},{"$f":"VLOOKUP(F18, [1]ext!$F$1:$G$65536,2,FALSE)","v":0}]
[null,null,null,null,null,null,{"$f":"VLOOKUP(E19, [1]ext!$F$1:$G$65536,2,FALSE)","v":0},{"$f":"VLOOKUP(F19, [1]ext!$F$1:$G$65536,2,FALSE)","v":0}]
[null,null,null,null,null,null,{"$f":"VLOOKUP(E20, [1]ext!$F$1:$G$65536,2,FALSE)","v":0},{"$f":"VLOOKUP(F20, [1]ext!$F$1:$G$65536,2,FALSE)","v":0}]
[null,null,null,null,null,null,{"$f":"VLOOKUP(E21, [1]ext!$F$1:$G$65536,2,FALSE)","v":0},{"$f":"VLOOKUP(F21, [1]ext!$F$1:$G$65536,2,FALSE)","v":0}]
[null,null,null,null,null,null,{"$f":"VLOOKUP(E22, [1]ext!$F$1:$G$65536,2,FALSE)","v":0},{"$f":"VLOOKUP(F22, [1]ext!$F$1:$G$65536,2,FALSE)","v":0}]
[null,null,null,null,null,null,{"$f":"VLOOKUP(E23, [1]ext!$F$1:$G$65536,2,FALSE)","v":0},{"$f":"VLOOKUP(F23, [1]ext!$F$1:$G$65536,2,FALSE)","v":0}]
[null,null,null,null,null,null,{"$f":"VLOOKUP(E24, [1]ext!$F$1:$G$65536,2,FALSE)","v":0},{"$f":"VLOOKUP(F24, [1]ext!$F$1:$G$65536,2,FALSE)","v":0}]
[null,null,null,null,null,null,{"$f":"VLOOKUP(E25, [1]ext!$F$1:$G$65536,2,FALSE)","v":0},{"$f":"VLOOKUP(F25, [1]ext!$F$1:$G$65536,2,FALSE)","v":0}]
[null,null,null,null,null,null,{"$f":"VLOOKUP(E26, [1]ext!$F$1:$G$65536,2,FALSE)","v":0},{"$f":"VLOOKUP(F26, [1]ext!$F$1:$G$65536,2,FALSE)","v":0}]
[null,null,null,null,null,null,{"$f":"VLOOKUP(E27, [1]ext!$F$1:$G$65536,2,FALSE)","v":0},{"$f":"VLOOKUP(F27, [1]ext!$F$1:$G$65536,2,FALSE)","v":0}]
[null,null,null,null,null,null,{"$f":"VLOOKUP(E28, [1]ext!$F$1:$G$65536,2,FALSE)","v":0},{"$f":"VLOOKUP(F28, [1]ext!$F$1:$G$65536,2,FALSE)","v":0}]
[null,null,null,null,null,null,{"$f":"VLOOKUP(E29, [1]ext!$F$1:$G$65536,2,FALSE)","v":0},{"$f":"VLOOKUP(F29, [1]ext!$F$1:$G$65536,2,FALSE)","v":0}]
[null,null,null,null,null,null,{"$f":"VLOOKUP(E30, [1]ext!$F$1:$G$65536,2,FALSE)","v":0},{"$f":"VLOOKUP(F30, [1]ext!$F$1:$G$65536,2,FALSE)","v":0}]
[null,null,null,null,null,null,{"$f":"VLOOKUP(E31, [1]ext!$F$1:$G$65536,2,FALSE)","v":0},{"$f":"VLOOKUP(F31, [1]ext!$F$1:$G$65536,2,FALSE)","v":0}]
[null,null,null,null,null,null,{"$f":"VLOOKUP(E32, [1]ext!$F$1:$G$65536,2,FALSE)","v":0},{"$f":"VLOOKUP(F32, [1]ext!$F$1:$G$65536,2,FALSE)","v":0}]
[null,null,null,null,null,null,{"$f":"VLOOKUP(E33, [1]ext!$F$1:$G$65536,2,FALSE)","v":0},{"$f":"VLOOKUP(F33, [1]ext!$F$1:$G$65536,2,FALSE)","v":0}]
[null,null,null,null,null,null,{"$f":"VLOOKUP(E34, [1]ext!$F$1:$G$65536,2,FALSE)","v":0},{"$f":"VLOOKUP(F34, [1]ext!$F$1:$G$65536,2,FALSE)","v":0}]
[null,null,null,null,null,null,{"$f":"VLOOKUP(E35, [1]ext!$F$1:$G$65536,2,FALSE)","v":0},{"$f":"VLOOKUP(F35, [1]ext!$F$1:$G$65536,2,FALSE)","v":0}]
[null,null,null,null,null,null,{"$f":"VLOOKUP(E36, [1]ext!$F$1:$G$65536,2,FALSE)","v":0},{"$f":"VLOOKUP(F36, [1]ext!$F$1:$G$65536,2,FALSE)","v":0}]
[null,null,null,null,null,null,{"$f":"VLOOKUP(E37, [1]ext!$F$1:$G$65536,2,FALSE)","v":0},{"$f":"VLOOKUP(F37, [1]ext!$F$1:$G$65536,2,FALSE)","v":0}]
[null,null,null,null,null,null,{"$f":"VLOOKUP(E38, [1]ext!$F$1:$G$65536,2,FALSE)","v":0},{"$f":"VLOOKUP(F38, [1]ext!$F$1:$G$65536,2,FALSE)","v":0}]
[null,null,null,null,null,null,{"$f":"VLOOKUP(E39, [1]ext!$F$1:$G$65536,2,FALSE)","v":0},{"$f":"VLOOKUP(F39, [1]ext!$F$1:$G$65536,2,FALSE)","v":0}]
[null,null,null,null,null,null,{"$f":"VLOOKUP(E40, [1]ext!$F$1:$G$65536,2,FALSE)","v":0},{"$f":"VLOOKUP(F40, [1]ext!$F$1:$G$65536,2,FALSE)","v":0}]
[null,null,null,null,null,null,{"$f":"VLOOKUP(E41, [1]ext!$F$1:$G$65536,2,FALSE)","v":0},{"$f":"VLOOKUP(F41, [1]ext!$F$1:$G$65536,2,FALSE)","v":0}]
[null,null,null,null,null,null,{"$f":"VLOOKUP(E42, [1]ext!$F$1:$G$65536,2,FALSE)","v":0},{"$f":"VLOOKUP(F42, [1]ext!$F$1:$G$65536,2,FALSE)","v":0}]
[null,null,null,null,null,null,{"$f":"VLOOKUP(E43, [1]ext!$F$1:$G$65536,2,FALSE)","v":0},{"$f":"VLOOKUP(F43, [1]ext!$F$1:$G$65536,2,FALSE)","v":0}]
[null,null,null,null,null,null,{"$f":"VLOOKUP(E44, [1]ext!$F$1:$G$65536,2,FALSE)","v":0},{"$f":"VLOOKUP(F44, [1]ext!$F$1:$G$65536,2,FALSE)","v":0}]
[null,null,null,null,null,null,{"$f":"VLOOKUP(E45, [1]ext!$F$1:$G$65536,2,FALSE)","v":0},{"$f":"VLOOKUP(F45, [1]ext!$F$1:$G$65536,2,FALSE)","v":0}]
[null,null,null,null,null,null,{"$f":"VLOOKUP(E46, [1]ext!$F$1:$G$65536,2,FALSE)","v":0},{"$f":"VLOOKUP(F46, [1]ext!$F$1:$G$65536,2,FALSE)","v":0}]
[null,null,null,null,null,null,{"$f":"VLOOKUP(E47, [1]ext!$F$1:$G$65536,2,FALSE)","v":0},{"$f":"VLOOKUP(F47, [1]ext!$F$1:$G$65536,2,FALSE)","v":0}]
[null,null,null,null,null,null,{"$f":"VLOOKUP(E48, [1]ext!$F$1:$G$65536,2,FALSE)","v":0},{"$f":"VLOOKUP(F48, [1]ext!$F$1:$G$65536,2,FALSE)","v":0}]
[null,null,null,null,null,null,{"$f":"VLOOKUP(E49, [1]ext!$F$1:$G$65536,2,FALSE)","v":0},{"$f":"VLOOKUP(F49, [1]ext!$F$1:$G$65536,2,FALSE)","v":0}]
[null,null,null,null,null,null,{"$f":"VLOOKUP(E50, [1]ext!$F$1:$G$65536,2,FALSE)","v":0},{"$f":"VLOOKUP(F50, [1]ext!$F$1:$G$65536,2,FALSE)","v":0}]
[null,null,null,null,null,null,{"$f":"VLOOKUP(E51, [1]ext!$F$1:$G$65536,2,FALSE)","v":0},{"$f":"VLOOKUP(F51, [1]ext!$F$1:$G$65536,2,FALSE)","v":0}]
[null,null,null,null,null,null,{"$f":"VLOOKUP(E52, [1]ext!$F$1:$G$65536,2,FALSE)","v":0},{"$f":"VLOOKUP(F52, [1]ext!$F$1:$G$65536,2,FALSE)","v":0}]
[null,null,null,null,null,null,{"$f":"VLOOKUP(E53, [1]ext!$F$1:$G$65536,2,FALSE)","v":0},{"$f":"VLOOKUP(F53, [1]ext!$F$1:$G$65536,2,FALSE)","v":0}]
[null,null,null,null,null,null,{"$f":"VLOOKUP(E54, [1]ext!$F$1:$G$65536,2,FALSE)","v":0},{"$f":"VLOOKUP(F54, [1]ext!$F$1:$G$65536,2,FALSE)","v":0}]
[null,null,null,null,null,null,{"$f":"VLOOKUP(E55, [1]ext!$F$1:$G$65536,2,FALSE)","v":0},{"$f":"VLOOKUP(F55, [1]ext!$F$1:$G$65536,2,FALSE)","v":0}]
[null,null,null,null,null,null,{"$f":"VLOOKUP(E56, [1]ext!$F$1:$G$65536,2,FALSE)","v":0},{"$f":"VLOOKUP(F56, [1]ext!$F$1:$G$65536,2,FALSE)","v":0}]
[null,null,null,null,null,null,{"$f":"VLOOKUP(E57, [1]ext!$F$1:$G$65536,2,FALSE)","v":0},{"$f":"VLOOKUP(F57, [1]ext!$F$1:$G$65536,2,FALSE)","v":0}]
[null,null,null,null,null,null,{"$f":"VLOOKUP(E58, [1]ext!$F$1:$G$65536,2,FALSE)","v":0},{"$f":"VLOOKUP(F58, [1]ext!$F$1:$G$65536,2,FALSE)","v":0}]
[null,null,null,null,null,null,{"$f":"VLOOKUP(E59, [1]ext!$F$1:$G$65536,2,FALSE)","v":0},{"$f":"VLOOKUP(F59, [1]ext!$F$1:$G$65536,2,FALSE)","v":0}]
[null,null,null,null,null,null,{"$f":"VLOOKUP(E60, [1]ext!$F$1:$G$65536,2,FALSE)","v":0},{"$f":"VLOOKUP(F60, [1]ext!$F$1:$G$65536,2,FALSE)","v":0}]
[null,null,null,null,null,null,{"$f":"VLOOKUP(E61, [1]ext!$F$1:$G$65536,2,FALSE)","v":0},{"$f":"VLOOKUP(F61, [1]ext!$F$1:$G$65536,2,FALSE)","v":0}]
[null,null,null,null,null,null,{"$f":"VLOOKUP(E62, [1]ext!$F$1:$G$65536,2,FALSE)","v":0},{"$f":"VLOOKUP(F62, [1]ext!$F$1:$G$65536,2,FALSE)","v":0}]
[null,null,null,null,null,null,{"$f":"VLOOKUP(E63, [1]ext!$F$1:$G$65536,2,FALSE)","v":0},{"$f":"VLOOKUP(F63, [1]ext!$F$1:$G$65536,2,FALSE)","v":0}]
[null,null,null,null,null,null,{"$f":"VLOOKUP(E64, [1]ext!$F$1:$G$65536,2,FALSE)","v":0},{"$f":"VLOOKUP(F64, [1]ext!$F$1:$G$65536,2,FALSE)","v":0}]
[null,null,null,null,null,null,{"$f":"VLOOKUP(E65, [1]ext!$F$1:$G$65536,2,FALSE)","v":0},{"$f":"VLOOKUP(F65, [1]ext!$F$1:$G$65536,2,FALSE)","v":0}]
[null,null,null,null,null,null,{"$f":"VLOOKUP(E66, [1]ext!$F$1:$G$65536,2,FALSE)","v":0},{"$f":"VLOOKUP(F66, [1]ext!$F$1:$G$65536,2,FALSE)","v":0}]
[null,null,null,null,null,null,{"$f":"VLOOKUP(E67, [1]ext!$F$1:$G$65536,2,FALSE)","v":0},{"$f":"VLOOKUP(F67, [1]ext!$F$1:$G$65536,2,FALSE)","v":0}]
[null,null,null,null,null,null,{"$f":"VLOOKUP(E68, [1]ext!$F$1:$G$65536,2,FALSE)","v":0},{"$f":"VLOOKUP(F68, [1]ext!$F$1:$G$65536,2,FALSE)","v":0}]
[null,null,null,null,null,null,{"$f":"VLOOKUP(E69, [1]ext!$F$1:$G$65536,2,FALSE)","v":0},{"$f":"VLOOKUP(F69, [1]ext!$F$1:$G$65536,2,FALSE)","v":0}]
[null,null,null,null,null,null,{"$f":"VLOOKUP(E70, [1]ext!$F$1:$G$65536,2,FALSE)","v":0},{"$f":"VLOOKUP(F70, [1]ext!$F$1:$G$65536,2,FALSE)","v":0}]
[null,null,null,null,null,null,{"$f":"VLOOKUP(E71, [1]ext!$F$1:$G$65536,2,FALSE)","v":0},{"$f":"VLOOKUP(F71, [1]ext!$F$1:$G$65536,2,FALSE)","v":0}]
[null,null,null,null,null,null,{"$f":"VLOOKUP(E72, [1]ext!$F$1:$G$65536,2,FALSE)","v":0},{"$f":"VLOOKUP(F72, [1]ext!$F$1:$G$65536,2,FALSE)","v":0}]
[null,null,null,null,null,null,{"$f":"VLOOKUP(E73, [1]ext!$F$1:$G$65536,2,FALSE)","v":0},{"$f":"VLOOKUP(F73, [1]ext!$F$1:$G$65536,2,FALSE)","v":0}]
[null,null,null,null,null,null,{"$f":"VLOOKUP(E74, [1]ext!$F$1:$G$65536,2,FALSE)","v":0},{"$f":"VLOOKUP(F74, [1]ext!$F$1:$G$65536,2,FALSE)","v":0}]
[null,null,null,null,null,null,{"$f":"VLOOKUP(E75, [1]ext!$F$1:$G$65536,2,FALSE)","v":0},{"$f":"VLOOKUP(F75, [1]ext!$F$1:$G$65536,2,FALSE)","v":0}]
[null,null,null,null,null,null,{"$f":"VLOOKUP(E76, [1]ext!$F$1:$G$65536,2,FALSE)","v":0},{"$f":"VLOOKUP(F76, [1]ext!$F$1:$G$65536,2,FALSE)","v":0}]
[null,null,null,null,null,null,{"$f":"VLOOKUP(E77, [1]ext!$F$1:$G$65536,2,FALSE)","v":0},{"$f":"VLOOKUP(F77, [1]ext!$F$1:$G$65536,2,FALSE)","v":0}]
[null,null,null,null,null,null,{"$f":"VLOOKUP(E78, [1]ext!$F$1:$G$65536,2,FALSE)","v":0},{"$f":"VLOOKUP(F78, [1]ext!$F$1:$G$65536,2,FALSE)","v":0}]
[null,null,null,null,null,null,{"$f":"VLOOKUP(E79, [1]ext!$F$1:$G$65536,2,FALSE)","v":0},{"$f":"VLOOKUP(F79, [1]ext!$F$1:$G$65536,2,FALSE)","v":0}]
[null,null,null,null,null,null,{"$f":"VLOOKUP(E80, [1]ext!$F$1:$G$65536,2,FALSE)","v":0},{"$f":"VLOOKUP(F80, [1]ext!$F$1:$G$65536,2,FALSE)","v":0}]
[null,null,null,null,null,null,{"$f":"VLOOKUP(E81, [1]ext!$F$1:$G$65536,2,FALSE)","v":0},{"$f":"VLOOKUP(F81, [1]ext!$F$1:$G$65536,2,FALSE)","v":0}]
[null,null,null,null,null,null,{"$f":"VLOOKUP(E82, [1]ext!$F$1:$G$65536,2,FALSE)","v":0},{"$f":"VLOOKUP(F82, [1]ext!$F$1:$G$65536,2,FALSE)","v":0}]
[null,null,null,null,null,null,{"$f":"VLOOKUP(E83, [1]ext!$F$1:$G$65536,2,FALSE)","v":0},{"$f":"VLOOKUP(F83, [1]ext!$F$1:$G$65536,2,FALSE)","v":0}]
[null,null,null,null,null,null,{"$f":"VLOOKUP(E84, [1]ext!$F$1:$G$65536,2,FALSE)","v":0},{"$f":"VLOOKUP(F84, [1]ext!$F$1:$G$65536,2,FALSE)","v":0}]
[null,null,null,null,null,null,{"$f":"VLOOKUP(E85, [1]ext!$F$1:$G$65536,2,FALSE)","v":0},{"$f":"VLOOKUP(F85, [1]ext!$F$1:$G$65536,2,FALSE)","v":0}]
[null,null,null,null,null,null,{"$f":"VLOOKUP(E86, [1]ext!$F$1:$G$65536,2,FALSE)","v":0},{"$f":"VLOOKUP(F86, [1]ext!$F$1:$G$65536,2,FALSE)","v":0}]
[null,null,null,null,null,null,{"$f":"VLOOKUP(E87, [1]ext!$F$1:$G$65536,2,FALSE)","v":0},{"$f":"VLOOKUP(F87, [1]ext!$F$1:$G$65536,2,FALSE)","v":0}]
[null,null,null,null,null,null,{"$f":"VLOOKUP(E88, [1]ext!$F$1:$G$65536,2,FALSE)","v":0},{"$f":"VLOOKUP(F88, [1]ext!$F$1:$G$65536,2,FALSE)","v":0}]
[null,null,null,null,null,null,{"$f":"VLOOKUP(E89, [1]ext!$F$1:$G$65536,2,FALSE)","v":0},{"$f":"VLOOKUP(F89, [1]ext!$F$1:$G$65536,2,FALSE)","v":0}]
[null,null,null,null,null,null,{"$f":"VLOOKUP(E90, [1]ext!$F$1:$G$65536,2,FALSE)","v":0},{"$f":"VLOOKUP(F90, [1]ext!$F$1:$G$65536,2,FALSE)","v":0}]
[null,null,null,null,null,null,{"$f":"VLOOKUP(E91, [1]ext!$F$1:$G$65536,2,FALSE)","v":0},{"$f":"VLOOKUP(F91, [1]ext!$F$1:$G$65536,2,FALSE)","v":0}]
[null,null,null,null,null,null,{"$f":"VLOOKUP(E92, [1]ext!$F$1:$G$65536,2,FALSE)","v":0},{"$f":"VLOOKUP(F92, [1]ext!$F$1:$G$65536,2,FALSE)","v":0}]
[null,null,null,null,null,null,{"$f":"VLOOKUP(E93, [1]ext!$F$1:$G$65536,2,FALSE)","v":0},{"$f":"VLOOKUP(F93, [1]ext!$F$1:$G$65536,2,FALSE)","v":0}]
[null,null,null,null,null,null,{"$f":"VLOOKUP(E94, [1]ext!$F$1:$G$65536,2,FALSE)","v":0},{"$f":"VLOOKUP(F94, [1]ext!$F$1:$G$65536,2,FALSE)","v":0}]
[null,null,null,null,null,null,{"$f":"VLOOKUP(E95, [1]ext!$F$1:$G$65536,2,FALSE)","v":0},{"$f":"VLOOKUP(F95, [1]ext!$F$1:$G$65536,2,FALSE)","v":0}]
[null,null,null,null,null,null,{"$f":"VLOOKUP(E96, [1]ext!$F$1:$G$65536,2,FALSE)","v":0},{"$f":"VLOOKUP(F96, [1]ext!$F$1:$G$65536,2,FALSE)","v":0}]
[null,null,null,null,null,null,{"$f":"VLOOKUP(E97, [1]ext!$F$1:$G$65536,2,FALSE)","v":0},{"$f":"VLOOKUP(F97, [1]ext!$F$1:$G$65536,2,FALSE)","v":0}]
[null,null,null,null,null,null,{"$f":"VLOOKUP(E98, [1]ext!$F$1:$G$65536,2,FALSE)","v":0},{"$f":"VLOOKUP(F98, [1]ext!$F$1:$G$65536,2,FALSE)","v":0}]
[null,null,null,null,null,null,{"$f":"VLOOKUP(E99, [1]ext!$F$1:$G$65536,2,FALSE)","v":0},{"$f":"VLOOKUP(F99, [1]ext!$F$1:$G$65536,2,FALSE)","v":0}]